BEGIN:VCALENDAR
PRODID: -//Microsoft Corporation//Outlook 12.0 MIMEDIR//EN
VERSION:2.0
METHOD:PUBLISH
BEGIN:VEVENT
DTSTART:20260826T113800Z
DTEND:20260826T113800Z
LOCATION:
TRANSP:TRANSPARENT
SEQUENCE:0
UID:306
DTSTAMP:20260826T113800Z
DESCRIPTION:
SUMMARY:Delårsrapport Q2 2026
PRIORITY:5
X-MICROSOFT-CDO-IMPORTANCE:1
CLASS:PUBLIC
X-MICROSOFT-CDO-BUSYSTATUS:
END:VEVENT
END:VCALENDAR
