BEGIN:VCALENDAR
PRODID: -//Microsoft Corporation//Outlook 12.0 MIMEDIR//EN
VERSION:2.0
METHOD:PUBLISH
BEGIN:VEVENT
DTSTART:20261104T123900Z
DTEND:20261104T123900Z
LOCATION:
TRANSP:TRANSPARENT
SEQUENCE:0
UID:251
DTSTAMP:20261104T123900Z
DESCRIPTION:
SUMMARY:Delårsrapport Q3 2026
PRIORITY:5
X-MICROSOFT-CDO-IMPORTANCE:1
CLASS:PUBLIC
X-MICROSOFT-CDO-BUSYSTATUS:
END:VEVENT
END:VCALENDAR
