BEGIN:VCALENDAR
PRODID: -//Microsoft Corporation//Outlook 12.0 MIMEDIR//EN
VERSION:2.0
METHOD:PUBLISH
BEGIN:VEVENT
DTSTART:20260622T095700Z
DTEND:20260625T095700Z
LOCATION:
TRANSP:TRANSPARENT
SEQUENCE:0
UID:736
DTSTAMP:20260622T095700Z
DESCRIPTION:
SUMMARY:BIO International Convention 2026
PRIORITY:5
X-MICROSOFT-CDO-IMPORTANCE:1
CLASS:PUBLIC
X-MICROSOFT-CDO-BUSYSTATUS:
END:VEVENT
END:VCALENDAR
